BEGIN:VCALENDAR
VERSION:2.0
PRODID:-//eventon.com NONSGML v1.0//EN
CALSCALE:GREGORIAN
METHOD:PUBLISH
BEGIN:VEVENT
UID:69e600f756d3e
DTSTAMP:20260420T103327Z
DTSTART:20240405
DTEND:20240406
LOCATION:
SUMMARY:น.วินเซนต์ แฟร์เรร์ พระสงฆ์
DESCRIPTION:นักบุญวินเซนต์ เกิดที
 เมืองวาเลนเซีย ประเทศสเปน 
 ค.ศ.1350 ท่านได้เข้าบวชในคณะโ
 มีนิกันและสอนเทววิทยา ในฐ
 นะนักเทศน์ ท่านได้เดินทาง
 ไปหลายแห่งเพื่อสอนประชาชน
 ให้ปฏิบัติตามคำสอนของข้อค
 วามเชื่อและพัฒนาชีวิต ท่า
 ถึงแก่มรณภาพที่เมืองวานส
  ประเทศฝรั่งเศส ค.ศ.1419\nhttps://tms1990.
 com/events/%e0%b8%99-%e0%b8%a7%e0%b8%b4%e0%b8%99%e0%b9%80%e0%b8%8b%e0%b8%99
 %e0%b8%95%e0%b9%8c-%e0%b9%81%e0%b8%9f%e0%b8%a3%e0%b9%8c%e0%b9%80%e0%b8%a3%e
 0%b8%a3%e0%b9%8c-%e0%b8%9e%e0%b8%a3%e0%b8%b0%e0%b8%aa/
URL:https://tms1990.com/events/%e0%b8%99-%e0%b8%a7%e0%b8%b4%e0%b8%99%e0%b9%80%e0%b8%8b%e0%b8%99%e0%b8%95%e0%b9%8c-%e0%b9%81%e0%b8%9f%e0%b8%a3%e0%b9%8c%e0%b9%80%e0%b8%a3%e0%b8%a3%e0%b9%8c-%e0%b8%9e%e0%b8%a3%e0%b8%b0%e0%b8%aa/
END:VEVENT
END:VCALENDAR