BEGIN:VCALENDAR
VERSION:2.0
PRODID:-//eventon.com NONSGML v1.0//EN
CALSCALE:GREGORIAN
METHOD:PUBLISH
BEGIN:VEVENT
UID:69e5fcbe0939a
DTSTAMP:20260420T101526Z
DTSTART:20240223
DTEND:20240224
LOCATION:
SUMMARY:ระลึกถึง น.โปลีการ์ป พระสังฆราช และมรณสักขี
DESCRIPTION:นักบุญโปลีการ์ป พระสั
 ฆราชเมืองสเมอร์นา เป็นศิษ
 ์ของนักบุญยอห์น อัครสาวก 
 ด้ร่วมเดินทางกับ นักบุญอิ
 ญาซีโอ แห่งอันติโอค ไปยัง
 รุงโรม เพื่อหารือกับพระสั
 ตะปาปาอานีชีตุสเกี่ยวกับ
 ารฉลองปัสกา ราว ค.ศ.155 ท่านไ
 ้เป็นมรณสักขีโดยถูกเผาทั
 งเป็นที่สนามกีฬาเมืองสเม
 ร์นา\nhttps://tms1990.com/events/%e0%b8%a3%e0%b8%b0%e0%b8%a5%e0%b8
 %b6%e0%b8%81%e0%b8%96%e0%b8%b6%e0%b8%87-%e0%b8%99-%e0%b9%82%e0%b8%9b%e0%b8%
 a5%e0%b8%b5%e0%b8%81%e0%b8%b2%e0%b8%a3%e0%b9%8c%e0%b8%9b-%e0%b8%9e%e0%b8%a3
 %e0%b8%b0-2/
URL:https://tms1990.com/events/%e0%b8%a3%e0%b8%b0%e0%b8%a5%e0%b8%b6%e0%b8%81%e0%b8%96%e0%b8%b6%e0%b8%87-%e0%b8%99-%e0%b9%82%e0%b8%9b%e0%b8%a5%e0%b8%b5%e0%b8%81%e0%b8%b2%e0%b8%a3%e0%b9%8c%e0%b8%9b-%e0%b8%9e%e0%b8%a3%e0%b8%b0-2/
END:VEVENT
END:VCALENDAR